BEGIN:VCALENDAR
VERSION:2.0
PRODID:-//Office of Justice Programs//NONSGML Event Calendar//EN
BEGIN:VEVENT
UID:6eb0af78-f6d2-4419-9e27-6ce352f861ca
DTSTART;TZID=UTC:20240523T190000
SEQUENCE:0
TRANSP:OPAQUE
DTEND;TZID=UTC:20240523T200000
LOCATION:https://www.ojp.gov/events/case-management-approaches-juvenile-hea
 ling-wellness-courts-and-programs
SUMMARY:Case Management Approaches in Juvenile Healing to Wellness Courts a
 nd Programs
CLASS:PUBLIC
DESCRIPTION:Learn more about this event: https://www.ojp.gov/events/case-ma
 nagement-approaches-juvenile-healing-wellness-courts-and-programs
DTSTAMP:20260423T064407Z
END:VEVENT
END:VCALENDAR