BEGIN:VCALENDAR
VERSION:2.0
PRODID:-//Office of Justice Programs//NONSGML Event Calendar//EN
BEGIN:VEVENT
UID:c349c05a-b914-4dd3-b2e8-7f15c842711f
DTSTART;TZID=UTC:20240530T170000
SEQUENCE:0
TRANSP:OPAQUE
DTEND;TZID=UTC:20240530T183000
LOCATION:https://www.ojp.gov/events/mentoring-programs-what-know-you-grow
SUMMARY:Mentoring Programs: What to Know Before you Grow
CLASS:PUBLIC
DESCRIPTION:Learn more about this event: https://www.ojp.gov/events/mentori
 ng-programs-what-know-you-grow
DTSTAMP:20260412T210933Z
END:VEVENT
END:VCALENDAR