BEGIN:VCALENDAR
VERSION:2.0
PRODID:-//Office of Justice Programs//NONSGML Event Calendar//EN
BEGIN:VEVENT
UID:2fcc6d04-b434-4d20-b764-172d8bcbc04e
DTSTART;TZID=UTC:20240618T180000
SEQUENCE:0
TRANSP:OPAQUE
DTEND;TZID=UTC:20240618T190000
LOCATION:https://www.ojp.gov/events/stop-school-based-cvi-approaches-collab
 orations-increase-parentfamily-engagement
SUMMARY:STOP School-Based CVI Approaches: Collaborations to Increase Parent
 /Family Engagement
CLASS:PUBLIC
DESCRIPTION:Learn more about this event: https://www.ojp.gov/events/stop-sc
 hool-based-cvi-approaches-collaborations-increase-parentfamily-engagement
DTSTAMP:20260423T014750Z
END:VEVENT
END:VCALENDAR