BEGIN:VCALENDAR
VERSION:2.0
PRODID:-//Office of Justice Programs//NONSGML Event Calendar//EN
BEGIN:VEVENT
UID:7fe943b3-2552-458e-9c2a-6b6870d42365
DTSTART;TZID=UTC:20240612T160000
SEQUENCE:0
TRANSP:OPAQUE
DTEND;TZID=UTC:20240612T170000
LOCATION:https://www.ojp.gov/events/fy24-visiting-fellows-program
SUMMARY:FY24 Visiting Fellows Program
CLASS:PUBLIC
DESCRIPTION:Learn more about this event: https://www.ojp.gov/events/fy24-vi
 siting-fellows-program
DTSTAMP:20260410T055300Z
END:VEVENT
END:VCALENDAR