BEGIN:VCALENDAR
VERSION:2.0
PRODID:-//Office of Justice Programs//NONSGML Event Calendar//EN
BEGIN:VEVENT
UID:c0e73e0c-52a0-4031-9897-5092be58adbe
DTSTART;TZID=UTC:20240612T180000
SEQUENCE:0
TRANSP:OPAQUE
DTEND;TZID=UTC:20240612T190000
LOCATION:https://www.ojp.gov/events/understanding-substance-misuse-american
 -indian-populations-and-whole-family-approaches
SUMMARY:Understanding Substance Misuse in American Indian Populations and W
 hole Family Approaches to Healing
CLASS:PUBLIC
DESCRIPTION:Learn more about this event: https://www.ojp.gov/events/underst
 anding-substance-misuse-american-indian-populations-and-whole-family-appro
 aches
DTSTAMP:20260423T045945Z
END:VEVENT
END:VCALENDAR