BEGIN:VCALENDAR
VERSION:2.0
PRODID:-//Office of Justice Programs//NONSGML Event Calendar//EN
BEGIN:VEVENT
UID:ad521be8-5838-4187-b87e-3bae277087f8
DTSTART;TZID=UTC:20240731T190000
SEQUENCE:0
TRANSP:OPAQUE
DTEND;TZID=UTC:20240731T200000
LOCATION:https://www.ojp.gov/events/trauma-resilient-youth-curriculum-stude
 nts-trauma-and-resiliency
SUMMARY:Trauma Resilient Youth Curriculum – Student's Trauma and Resilien
 cy
CLASS:PUBLIC
DESCRIPTION:Learn more about this event: https://www.ojp.gov/events/trauma-
 resilient-youth-curriculum-students-trauma-and-resiliency
DTSTAMP:20260423T050004Z
END:VEVENT
END:VCALENDAR