BEGIN:VCALENDAR
VERSION:2.0
PRODID:-//Office of Justice Programs//NONSGML Event Calendar//EN
BEGIN:VEVENT
UID:6cf1fc45-8360-4987-b450-0ce09aec9ac8
DTSTART;TZID=UTC:20240730T140000
SEQUENCE:0
TRANSP:OPAQUE
DTEND;TZID=UTC:20240730T220000
LOCATION:https://www.ojp.gov/events/responding-transnational-elder-fraud-vi
 ctim-centered-approach-law-enforcement
SUMMARY:Responding to Transnational Elder Fraud: A Victim-Centered Approach
  for Law Enforcement
CLASS:PUBLIC
DESCRIPTION:Learn more about this event: https://www.ojp.gov/events/respond
 ing-transnational-elder-fraud-victim-centered-approach-law-enforcement
DTSTAMP:20260409T003842Z
END:VEVENT
END:VCALENDAR