BEGIN:VCALENDAR
VERSION:2.0
PRODID:-//Office of Justice Programs//NONSGML Event Calendar//EN
BEGIN:VEVENT
UID:719cfee1-4351-4349-b9b9-9783cf91d667
DTSTART;TZID=UTC:20240806T130000
SEQUENCE:0
TRANSP:OPAQUE
DTEND;TZID=UTC:20240806T210000
LOCATION:https://www.ojp.gov/events/responding-transnational-elder-fraud-vi
 ctim-centered-approach-law-enforcement-0
SUMMARY:Responding to Transnational Elder Fraud: A Victim-Centered Approach
  for Law Enforcement
CLASS:PUBLIC
DESCRIPTION:Learn more about this event: https://www.ojp.gov/events/respond
 ing-transnational-elder-fraud-victim-centered-approach-law-enforcement-0
DTSTAMP:20260409T153911Z
END:VEVENT
END:VCALENDAR