BEGIN:VCALENDAR
VERSION:2.0
PRODID:-//Office of Justice Programs//NONSGML Event Calendar//EN
BEGIN:VEVENT
UID:cc5e6d57-5bc5-45b2-8dc2-c59aedd6d5f7
DTSTART;TZID=UTC:20240813T130000
SEQUENCE:0
TRANSP:OPAQUE
DTEND;TZID=UTC:20240813T210000
LOCATION:https://www.ojp.gov/events/responding-transnational-elder-fraud-vi
 ctim-centered-approach-law-enforcement-1
SUMMARY:Responding to Transnational Elder Fraud: A Victim-Centered Approach
  for Law Enforcement
CLASS:PUBLIC
DESCRIPTION:Learn more about this event: https://www.ojp.gov/events/respond
 ing-transnational-elder-fraud-victim-centered-approach-law-enforcement-1
DTSTAMP:20260409T040230Z
END:VEVENT
END:VCALENDAR