BEGIN:VCALENDAR
VERSION:2.0
PRODID:-//Office of Justice Programs//NONSGML Event Calendar//EN
BEGIN:VEVENT
UID:56eac559-8138-42ab-9444-07a4c06c09f1
DTSTART;TZID=UTC:20240905T130000
SEQUENCE:0
TRANSP:OPAQUE
DTEND;TZID=UTC:20240905T210000
LOCATION:https://www.ojp.gov/events/responding-transnational-elder-fraud-vi
 ctim-centered-approach-law-enforcement-2
SUMMARY:Responding to Transnational Elder Fraud: A Victim-Centered Approach
  for Law Enforcement
CLASS:PUBLIC
DESCRIPTION:Learn more about this event: https://www.ojp.gov/events/respond
 ing-transnational-elder-fraud-victim-centered-approach-law-enforcement-2
DTSTAMP:20260408T235250Z
END:VEVENT
END:VCALENDAR