BEGIN:VCALENDAR
VERSION:2.0
PRODID:-//Office of Justice Programs//NONSGML Event Calendar//EN
BEGIN:VEVENT
UID:8ea18acb-c2d9-4334-8504-c5e93d07abca
DTSTART;TZID=UTC:20240815T193000
SEQUENCE:0
TRANSP:OPAQUE
DTEND;TZID=UTC:20240815T210000
LOCATION:https://www.ojp.gov/events/thriving-together-youth-insights-streng
 thening-mentor-mentee-connections
SUMMARY:Thriving Together: Youth Insights on Strengthening Mentor-Mentee Co
 nnections
CLASS:PUBLIC
DESCRIPTION:Learn more about this event: https://www.ojp.gov/events/thrivin
 g-together-youth-insights-strengthening-mentor-mentee-connections
DTSTAMP:20260411T143736Z
END:VEVENT
END:VCALENDAR