BEGIN:VCALENDAR
VERSION:2.0
PRODID:-//Office of Justice Programs//NONSGML Event Calendar//EN
BEGIN:VEVENT
UID:b47d4e61-68cf-47ae-b772-e976a369f150
DTSTART;TZID=UTC:20240911T150000
SEQUENCE:0
TRANSP:OPAQUE
DTEND;TZID=UTC:20240912T000000
LOCATION:https://www.ojp.gov/events/child-sex-trafficking-first-responders-
 1
SUMMARY:Child Sex Trafficking for First Responders
CLASS:PUBLIC
DESCRIPTION:Learn more about this event: https://www.ojp.gov/events/child-s
 ex-trafficking-first-responders-1
DTSTAMP:20260423T123400Z
END:VEVENT
END:VCALENDAR