BEGIN:VCALENDAR
VERSION:2.0
PRODID:-//Office of Justice Programs//NONSGML Event Calendar//EN
BEGIN:VEVENT
UID:559b1f42-2927-473a-9e69-32819d771ea1
DTSTART;TZID=UTC:20240912T180000
SEQUENCE:0
TRANSP:OPAQUE
DTEND;TZID=UTC:20240912T190000
LOCATION:https://www.ojp.gov/events/justgrants-weekly-training-webinar-awar
 d-acceptance-14
SUMMARY:JustGrants Weekly Training Webinar: Award Acceptance
CLASS:PUBLIC
DESCRIPTION:Learn more about this event: https://www.ojp.gov/events/justgra
 nts-weekly-training-webinar-award-acceptance-14
DTSTAMP:20260424T221558Z
END:VEVENT
END:VCALENDAR