BEGIN:VCALENDAR
VERSION:2.0
PRODID:-//Office of Justice Programs//NONSGML Event Calendar//EN
BEGIN:VEVENT
UID:c99c02e9-9c1c-47a9-bef2-e25643ecd893
DTSTART;TZID=UTC:20240910T180000
SEQUENCE:0
TRANSP:OPAQUE
DTEND;TZID=UTC:20240910T190000
LOCATION:https://www.ojp.gov/events/justgrants-weekly-training-webinar-enti
 ty-management-17
SUMMARY:JustGrants Weekly Training Webinar: Entity Management
CLASS:PUBLIC
DESCRIPTION:Learn more about this event: https://www.ojp.gov/events/justgra
 nts-weekly-training-webinar-entity-management-17
DTSTAMP:20260425T154546Z
END:VEVENT
END:VCALENDAR