BEGIN:VCALENDAR
VERSION:2.0
PRODID:-//Office of Justice Programs//NONSGML Event Calendar//EN
BEGIN:VEVENT
UID:73caea87-f687-4956-8a3c-b3ad99ab3a25
DTSTART;TZID=UTC:20241112T190000
SEQUENCE:0
TRANSP:OPAQUE
DTEND;TZID=UTC:20241112T200000
LOCATION:https://www.ojp.gov/events/justgrants-weekly-training-webinar-enti
 ty-management-21
SUMMARY:JustGrants Weekly Training Webinar: Entity Management
CLASS:PUBLIC
DESCRIPTION:Learn more about this event: https://www.ojp.gov/events/justgra
 nts-weekly-training-webinar-entity-management-21
DTSTAMP:20260424T232803Z
END:VEVENT
END:VCALENDAR