BEGIN:VCALENDAR
VERSION:2.0
PRODID:-//Office of Justice Programs//NONSGML Event Calendar//EN
BEGIN:VEVENT
UID:34183679-6bf1-4ea0-9091-a80d517da7f2
DTSTART;TZID=UTC:20241126T190000
SEQUENCE:0
TRANSP:OPAQUE
DTEND;TZID=UTC:20241126T200000
LOCATION:https://www.ojp.gov/events/justgrants-weekly-training-webinar-enti
 ty-management-22
SUMMARY:JustGrants Weekly Training Webinar: Entity Management
CLASS:PUBLIC
DESCRIPTION:Learn more about this event: https://www.ojp.gov/events/justgra
 nts-weekly-training-webinar-entity-management-22
DTSTAMP:20260423T165628Z
END:VEVENT
END:VCALENDAR