BEGIN:VCALENDAR
VERSION:2.0
PRODID:-//Office of Justice Programs//NONSGML Event Calendar//EN
BEGIN:VEVENT
UID:b2189e63-cfaf-4346-bbb7-0bdf805d9676
DTSTART;TZID=UTC:20241210T190000
SEQUENCE:0
TRANSP:OPAQUE
DTEND;TZID=UTC:20241210T200000
LOCATION:https://www.ojp.gov/events/justgrants-weekly-training-webinar-enti
 ty-management-23
SUMMARY:JustGrants Weekly Training Webinar: Entity Management
CLASS:PUBLIC
DESCRIPTION:Learn more about this event: https://www.ojp.gov/events/justgra
 nts-weekly-training-webinar-entity-management-23
DTSTAMP:20260423T185719Z
END:VEVENT
END:VCALENDAR