BEGIN:VCALENDAR
VERSION:2.0
PRODID:-//Office of Justice Programs//NONSGML Event Calendar//EN
BEGIN:VEVENT
UID:a5d49e82-34c4-4dc3-b804-9fe2d670d4a8
DTSTART;TZID=UTC:20241007T170000
SEQUENCE:0
TRANSP:OPAQUE
DTEND;TZID=UTC:20241007T183000
LOCATION:https://www.ojp.gov/events/justgrants-weekly-training-webinar-post
 -award-management-17
SUMMARY:JustGrants Weekly Training Webinar: Post-Award Management
CLASS:PUBLIC
DESCRIPTION:Learn more about this event: https://www.ojp.gov/events/justgra
 nts-weekly-training-webinar-post-award-management-17
DTSTAMP:20260423T200436Z
END:VEVENT
END:VCALENDAR