BEGIN:VCALENDAR
VERSION:2.0
PRODID:-//Office of Justice Programs//NONSGML Event Calendar//EN
BEGIN:VEVENT
UID:59e44899-9f68-4835-9fb4-0db71dd1da0e
DTSTART;TZID=UTC:20241216T180000
SEQUENCE:0
TRANSP:OPAQUE
DTEND;TZID=UTC:20241216T193000
LOCATION:https://www.ojp.gov/events/justgrants-weekly-training-webinar-post
 -award-management-22
SUMMARY:JustGrants Weekly Training Webinar: Post-Award Management
CLASS:PUBLIC
DESCRIPTION:Learn more about this event: https://www.ojp.gov/events/justgra
 nts-weekly-training-webinar-post-award-management-22
DTSTAMP:20260425T143306Z
END:VEVENT
END:VCALENDAR