BEGIN:VCALENDAR
VERSION:2.0
PRODID:-//Office of Justice Programs//NONSGML Event Calendar//EN
BEGIN:VEVENT
UID:1911e4de-9c9b-4f07-afa9-9db8b6d2eff8
DTSTART;TZID=UTC:20240910T190000
SEQUENCE:0
TRANSP:OPAQUE
DTEND;TZID=UTC:20240910T200000
LOCATION:https://www.ojp.gov/events/overview-trauma-screening-youth
SUMMARY:An Overview of Trauma Screening for Youth
CLASS:PUBLIC
DESCRIPTION:Learn more about this event: https://www.ojp.gov/events/overvie
 w-trauma-screening-youth
DTSTAMP:20260423T050004Z
END:VEVENT
END:VCALENDAR