BEGIN:VCALENDAR
VERSION:2.0
PRODID:-//Office of Justice Programs//NONSGML Event Calendar//EN
BEGIN:VEVENT
UID:5f425dbe-cbbd-4ab2-bdeb-b07450a466fd
DTSTART;TZID=UTC:20250403T130000
SEQUENCE:0
TRANSP:OPAQUE
DTEND;TZID=UTC:20250403T220000
LOCATION:https://www.ojp.gov/events/child-sex-trafficking-first-responders-
 3
SUMMARY:Child Sex Trafficking for First Responders
CLASS:PUBLIC
DESCRIPTION:Learn more about this event: https://www.ojp.gov/events/child-s
 ex-trafficking-first-responders-3
DTSTAMP:20260423T123654Z
END:VEVENT
END:VCALENDAR