BEGIN:VCALENDAR
VERSION:2.0
PRODID:-//Office of Justice Programs//NONSGML Event Calendar//EN
BEGIN:VEVENT
UID:9be2dffb-f435-412e-8b54-370c601be7b6
DTSTART;TZID=UTC:20250806T150000
SEQUENCE:0
TRANSP:OPAQUE
DTEND;TZID=UTC:20250807T230000
LOCATION:https://www.ojp.gov/events/creating-community-action-plan-preventi
 on-child-sexual-abuse-5
SUMMARY:Creating a Community Action Plan for the Prevention of Child Sexual
  Abuse
CLASS:PUBLIC
DESCRIPTION:Learn more about this event: https://www.ojp.gov/events/creatin
 g-community-action-plan-prevention-child-sexual-abuse-5
DTSTAMP:20260423T202222Z
END:VEVENT
END:VCALENDAR