BEGIN:VCALENDAR
VERSION:2.0
PRODID:-//Office of Justice Programs//NONSGML Event Calendar//EN
BEGIN:VEVENT
UID:52ceac51-81ae-4c49-a640-3a3dca5c5a24
DTSTART;TZID=UTC:20241216T180000
SEQUENCE:0
TRANSP:OPAQUE
DTEND;TZID=UTC:20241216T193000
LOCATION:https://www.ojp.gov/events/rural-native-youth-panel-discussion-com
 parative-resources-and-collaborations-improve
SUMMARY:Rural Native Youth: A Panel Discussion on Comparative Resources and
  Collaborations to Improve Outcomes
CLASS:PUBLIC
DESCRIPTION:Learn more about this event: https://www.ojp.gov/events/rural-n
 ative-youth-panel-discussion-comparative-resources-and-collaborations-impr
 ove
DTSTAMP:20260409T024623Z
END:VEVENT
END:VCALENDAR