BEGIN:VCALENDAR
VERSION:2.0
PRODID:-//Office of Justice Programs//NONSGML Event Calendar//EN
BEGIN:VEVENT
UID:dd10b4e9-0ec2-495b-98e9-7c031dd2a699
DTSTART;TZID=UTC:20250128T190000
SEQUENCE:0
TRANSP:OPAQUE
DTEND;TZID=UTC:20250128T200000
LOCATION:https://www.ojp.gov/events/entity-management-weekly-training-webin
 ar-0
SUMMARY:Entity Management Weekly Training Webinar
CLASS:PUBLIC
DESCRIPTION:Learn more about this event: https://www.ojp.gov/events/entity-
 management-weekly-training-webinar-0
DTSTAMP:20260425T125236Z
END:VEVENT
END:VCALENDAR