BEGIN:VCALENDAR
VERSION:2.0
PRODID:-//Office of Justice Programs//NONSGML Event Calendar//EN
BEGIN:VEVENT
UID:af75f1a1-d262-45ce-b889-6e81beaf36a9
DTSTART;TZID=UTC:20250211T190000
SEQUENCE:0
TRANSP:OPAQUE
DTEND;TZID=UTC:20250211T200000
LOCATION:https://www.ojp.gov/events/entity-management-weekly-training-webin
 ar-1
SUMMARY:Entity Management Weekly Training Webinar
CLASS:PUBLIC
DESCRIPTION:Learn more about this event: https://www.ojp.gov/events/entity-
 management-weekly-training-webinar-1
DTSTAMP:20260425T125208Z
END:VEVENT
END:VCALENDAR