BEGIN:VCALENDAR
VERSION:2.0
PRODID:-//Office of Justice Programs//NONSGML Event Calendar//EN
BEGIN:VEVENT
UID:ac9a55ca-900a-4180-88c0-7bb3efc4f4ed
DTSTART;TZID=UTC:20250225T190000
SEQUENCE:0
TRANSP:OPAQUE
DTEND;TZID=UTC:20250225T200000
LOCATION:https://www.ojp.gov/events/entity-management-weekly-training-webin
 ar-2
SUMMARY:Entity Management Weekly Training Webinar
CLASS:PUBLIC
DESCRIPTION:Learn more about this event: https://www.ojp.gov/events/entity-
 management-weekly-training-webinar-2
DTSTAMP:20260424T165826Z
END:VEVENT
END:VCALENDAR