BEGIN:VCALENDAR
VERSION:2.0
PRODID:-//Office of Justice Programs//NONSGML Event Calendar//EN
BEGIN:VEVENT
UID:9e8ee4fa-57fb-4d60-8963-6d0e81435ba1
DTSTART;TZID=UTC:20250408T180000
SEQUENCE:0
TRANSP:OPAQUE
DTEND;TZID=UTC:20250408T190000
LOCATION:https://www.ojp.gov/events/entity-management-weekly-training-webin
 ar-5
SUMMARY:Entity Management Weekly Training Webinar
CLASS:PUBLIC
DESCRIPTION:Learn more about this event: https://www.ojp.gov/events/entity-
 management-weekly-training-webinar-5
DTSTAMP:20260425T125208Z
END:VEVENT
END:VCALENDAR