BEGIN:VCALENDAR
VERSION:2.0
PRODID:-//Office of Justice Programs//NONSGML Event Calendar//EN
BEGIN:VEVENT
UID:4c2b4669-8d72-44b7-9a43-f704f39606e5
DTSTART;TZID=UTC:20250422T180000
SEQUENCE:0
TRANSP:OPAQUE
DTEND;TZID=UTC:20250422T190000
LOCATION:https://www.ojp.gov/events/entity-management-weekly-training-webin
 ar-6
SUMMARY:Entity Management Weekly Training Webinar
CLASS:PUBLIC
DESCRIPTION:Learn more about this event: https://www.ojp.gov/events/entity-
 management-weekly-training-webinar-6
DTSTAMP:20260425T081331Z
END:VEVENT
END:VCALENDAR