BEGIN:VCALENDAR
VERSION:2.0
PRODID:-//Office of Justice Programs//NONSGML Event Calendar//EN
BEGIN:VEVENT
UID:c8a0686b-b1da-4451-a018-674c133f1d49
DTSTART;TZID=UTC:20250109T190000
SEQUENCE:0
TRANSP:OPAQUE
DTEND;TZID=UTC:20250109T200000
LOCATION:https://www.ojp.gov/events/award-acceptance-weekly-training-webina
 r
SUMMARY:Award Acceptance Weekly Training Webinar
CLASS:PUBLIC
DESCRIPTION:Learn more about this event: https://www.ojp.gov/events/award-a
 cceptance-weekly-training-webinar
DTSTAMP:20260415T234429Z
END:VEVENT
END:VCALENDAR