BEGIN:VCALENDAR
VERSION:2.0
PRODID:-//Office of Justice Programs//NONSGML Event Calendar//EN
BEGIN:VEVENT
UID:c9866655-84b9-4e92-9746-ad058ca2e64d
DTSTART;TZID=UTC:20250213T190000
SEQUENCE:0
TRANSP:OPAQUE
DTEND;TZID=UTC:20250213T200000
LOCATION:https://www.ojp.gov/events/award-acceptance-weekly-training-webina
 r-0
SUMMARY:Award Acceptance Weekly Training Webinar
CLASS:PUBLIC
DESCRIPTION:Learn more about this event: https://www.ojp.gov/events/award-a
 cceptance-weekly-training-webinar-0
DTSTAMP:20260410T102207Z
END:VEVENT
END:VCALENDAR