BEGIN:VCALENDAR
VERSION:2.0
PRODID:-//Office of Justice Programs//NONSGML Event Calendar//EN
BEGIN:VEVENT
UID:15fcfdcc-5ac5-4377-97ed-2cc0b02ffa05
DTSTART;TZID=UTC:20250923T180000
SEQUENCE:0
TRANSP:OPAQUE
DTEND;TZID=UTC:20250923T190000
LOCATION:https://www.ojp.gov/events/entity-management-weekly-training-webin
 ar-8
SUMMARY:Entity Management Weekly Training Webinar
CLASS:PUBLIC
DESCRIPTION:Learn more about this event: https://www.ojp.gov/events/entity-
 management-weekly-training-webinar-8
DTSTAMP:20260425T125100Z
END:VEVENT
END:VCALENDAR