BEGIN:VCALENDAR
VERSION:2.0
PRODID:-//Office of Justice Programs//NONSGML Event Calendar//EN
BEGIN:VEVENT
UID:a1055af5-866d-4d1b-9600-e1e17263e89e
DTSTART;TZID=UTC:20251113T190000
SEQUENCE:0
TRANSP:OPAQUE
DTEND;TZID=UTC:20251113T200000
LOCATION:https://www.ojp.gov/events/award-acceptance-weekly-training-webina
 r-6
SUMMARY:Award Acceptance Weekly Training Webinar
CLASS:PUBLIC
DESCRIPTION:Learn more about this event: https://www.ojp.gov/events/award-a
 cceptance-weekly-training-webinar-6
DTSTAMP:20260411T015627Z
END:VEVENT
END:VCALENDAR