BEGIN:VCALENDAR
VERSION:2.0
PRODID:-//Office of Justice Programs//NONSGML Event Calendar//EN
BEGIN:VEVENT
UID:f202e0cc-b3bb-47bb-a208-37c03554cfe0
DTSTART;TZID=UTC:20260303T190000
SEQUENCE:0
TRANSP:OPAQUE
DTEND;TZID=UTC:20260303T200000
LOCATION:https://www.ojp.gov/events/entity-management-weekly-training-webin
 ar-17
SUMMARY:Entity Management Weekly Training Webinar
CLASS:PUBLIC
DESCRIPTION:Learn more about this event: https://www.ojp.gov/events/entity-
 management-weekly-training-webinar-17
DTSTAMP:20260423T162707Z
END:VEVENT
END:VCALENDAR