BEGIN:VCALENDAR
VERSION:2.0
PRODID:-//Office of Justice Programs//NONSGML Event Calendar//EN
BEGIN:VEVENT
UID:beb2a9d2-8a09-48f7-b8db-bef9d00fbfd5
DTSTART;TZID=UTC:20260505T180000
SEQUENCE:0
TRANSP:OPAQUE
DTEND;TZID=UTC:20260505T190000
LOCATION:https://www.ojp.gov/events/bja-fy25-rural-law-enforcement-violent-
 crime-reduction-initiative-rvcr
SUMMARY:BJA FY25 Rural Law Enforcement Violent Crime Reduction Initiative (
 RVCR)
CLASS:PUBLIC
DESCRIPTION:Learn more about this event: https://www.ojp.gov/events/bja-fy2
 5-rural-law-enforcement-violent-crime-reduction-initiative-rvcr
DTSTAMP:20260421T192201Z
END:VEVENT
END:VCALENDAR