BEGIN:VCALENDAR
VERSION:2.0
PRODID:-//Office of Justice Programs//NONSGML Event Calendar//EN
BEGIN:VEVENT
UID:34abca62-0600-4153-aa43-290c41cd24b4
DTSTART;TZID=UTC:20260505T180000
SEQUENCE:0
TRANSP:OPAQUE
DTEND;TZID=UTC:20260505T190000
LOCATION:https://www.ojp.gov/events/entity-management-weekly-training-webin
 ar-21
SUMMARY:Entity Management Weekly Training Webinar
CLASS:PUBLIC
DESCRIPTION:Learn more about this event: https://www.ojp.gov/events/entity-
 management-weekly-training-webinar-21
DTSTAMP:20260422T225943Z
END:VEVENT
END:VCALENDAR