BEGIN:VCALENDAR
VERSION:2.0
PRODID:-//Office of Justice Programs//NONSGML Event Calendar//EN
BEGIN:VEVENT
UID:938bc58c-ae1a-437c-969c-2412ddbfafc5
DTSTART;TZID=UTC:20260519T180000
SEQUENCE:0
TRANSP:OPAQUE
DTEND;TZID=UTC:20260519T190000
LOCATION:https://www.ojp.gov/events/entity-management-weekly-training-webin
 ar-22
SUMMARY:Entity Management Weekly Training Webinar
CLASS:PUBLIC
DESCRIPTION:Learn more about this event: https://www.ojp.gov/events/entity-
 management-weekly-training-webinar-22
DTSTAMP:20260422T225923Z
END:VEVENT
END:VCALENDAR