BEGIN:VCALENDAR
VERSION:2.0
PRODID:-//Office of Justice Programs//NONSGML Event Calendar//EN
BEGIN:VEVENT
UID:be975fa5-0d42-4df5-bf09-6dfac080d3a7
DTSTART;TZID=UTC:20260507T180000
SEQUENCE:0
TRANSP:OPAQUE
DTEND;TZID=UTC:20260507T190000
LOCATION:https://www.ojp.gov/events/award-acceptance-weekly-training-webina
 r-16
SUMMARY:Award Acceptance Weekly Training Webinar
CLASS:PUBLIC
DESCRIPTION:Learn more about this event: https://www.ojp.gov/events/award-a
 cceptance-weekly-training-webinar-16
DTSTAMP:20260422T225903Z
END:VEVENT
END:VCALENDAR