BEGIN:VCALENDAR
VERSION:2.0
PRODID:-//Office of Justice Programs//NONSGML Event Calendar//EN
BEGIN:VEVENT
UID:a68dd6b3-60cf-4ec9-87ae-d88f2597e70e
DTSTART;TZID=UTC:20260521T180000
SEQUENCE:0
TRANSP:OPAQUE
DTEND;TZID=UTC:20260521T190000
LOCATION:https://www.ojp.gov/events/award-acceptance-weekly-training-webina
 r-17
SUMMARY:Award Acceptance Weekly Training Webinar
CLASS:PUBLIC
DESCRIPTION:Learn more about this event: https://www.ojp.gov/events/award-a
 cceptance-weekly-training-webinar-17
DTSTAMP:20260422T225853Z
END:VEVENT
END:VCALENDAR