BEGIN:VCALENDAR
VERSION:2.0
PRODID:-//Office of Justice Programs//NONSGML Event Calendar//EN
BEGIN:VEVENT
UID:e4668a01-8137-4097-ae32-83976ae6cd63
DTSTART;TZID=UTC:20260511T170000
SEQUENCE:0
TRANSP:OPAQUE
DTEND;TZID=UTC:20260511T183000
LOCATION:https://www.ojp.gov/events/award-management-weekly-training-webina
 r-20
SUMMARY:Award Management Weekly Training Webinar
CLASS:PUBLIC
DESCRIPTION:Learn more about this event: https://www.ojp.gov/events/award-m
 anagement-weekly-training-webinar-20
DTSTAMP:20260422T223558Z
END:VEVENT
END:VCALENDAR