BEGIN:VCALENDAR
VERSION:2.0
PRODID:-//Office of Justice Programs//NONSGML Event Calendar//EN
BEGIN:VEVENT
UID:a925fe45-e247-4686-9760-1932eac52201
DTSTART;TZID=UTC:20260513T183000
SEQUENCE:0
TRANSP:OPAQUE
DTEND;TZID=UTC:20260513T203000
LOCATION:https://www.ojp.gov/events/application-submission-weekly-training-
 webinar-34
SUMMARY:Application Submission Weekly Training Webinar
CLASS:PUBLIC
DESCRIPTION:Learn more about this event: https://www.ojp.gov/events/applica
 tion-submission-weekly-training-webinar-34
DTSTAMP:20260422T225848Z
END:VEVENT
END:VCALENDAR