BEGIN:VCALENDAR
VERSION:2.0
PRODID:-//Office of Justice Programs//NONSGML Event Calendar//EN
BEGIN:VEVENT
UID:897f7c9f-09c6-49ea-b7b9-66f8e537304a
DTSTART;TZID=UTC:20260527T183000
SEQUENCE:0
TRANSP:OPAQUE
DTEND;TZID=UTC:20260527T203000
LOCATION:https://www.ojp.gov/events/application-submission-weekly-training-
 webinar-35
SUMMARY:Application Submission Weekly Training Webinar
CLASS:PUBLIC
DESCRIPTION:Learn more about this event: https://www.ojp.gov/events/applica
 tion-submission-weekly-training-webinar-35
DTSTAMP:20260422T223603Z
END:VEVENT
END:VCALENDAR