BEGIN:VCALENDAR
VERSION:2.0
PRODID:-//Office of Justice Programs//NONSGML Event Calendar//EN
BEGIN:VEVENT
UID:56e5736d-dfaa-4dfa-a075-6f865e18646e
DTSTART;TZID=UTC:20210216T190000
SEQUENCE:0
TRANSP:OPAQUE
DTEND;TZID=UTC:20210216T210000
LOCATION:https://www.ojp.gov/events/fy-2021-coordinated-tribal-assistance-s
 olicitation-ctas-webinar-purpose-areas-2-3-4-bja
SUMMARY:FY 2021 Coordinated Tribal Assistance Solicitation (CTAS) Webinar: 
 Purpose Areas 2\, 3\, 4 (BJA)
CLASS:PUBLIC
DESCRIPTION:Learn more about this event: https://www.ojp.gov/events/fy-2021
 -coordinated-tribal-assistance-solicitation-ctas-webinar-purpose-areas-2-3
 -4-bja
DTSTAMP:20260424T231835Z
END:VEVENT
END:VCALENDAR