BEGIN:VCALENDAR
VERSION:2.0
PRODID:-//Office of Justice Programs//NONSGML Event Calendar//EN
BEGIN:VEVENT
UID:c4d65ed2-ebcc-45c4-9c81-0b39324dc02c
DTSTART;TZID=UTC:20210302T190000
SEQUENCE:0
TRANSP:OPAQUE
DTEND;TZID=UTC:20210302T210000
LOCATION:https://www.ojp.gov/events/fy-2021-coordinated-tribal-assistance-s
 olicitation-ctas-budget-worksheet-completion
SUMMARY:FY 2021 Coordinated Tribal Assistance Solicitation (CTAS): Budget W
 orksheet Completion
CLASS:PUBLIC
DESCRIPTION:Learn more about this event: https://www.ojp.gov/events/fy-2021
 -coordinated-tribal-assistance-solicitation-ctas-budget-worksheet-completi
 on
DTSTAMP:20260425T010427Z
END:VEVENT
END:VCALENDAR